BEGIN:VCALENDAR
VERSION:2.0
PRODID:-//pretix//Laboratório_Hacker_de_Campinas//
BEGIN:VEVENT
UID:pretix-lhc-homelab0x01-0@pretix.lhc.net.br
DTSTART:20251001T193000Z
DTEND:20251001T220000Z
DESCRIPTION:Ingressos: https://pretix.lhc.net.br/lhc/homelab0x01/\nOrganiza
 dor: LHC
DTSTAMP:20260423T010353Z
LOCATION:Laboratório Hacker de Campinas\, Rua Arariboia\, 121\, Ponte Pret
 a\, Campinas-SP
SUMMARY:HomeLab\, meus dados\, minhas regras
END:VEVENT
END:VCALENDAR
